BEGIN:VCALENDAR
VERSION:2.0
PRODID:-//pretix//pretix.eu//
BEGIN:VTIMEZONE
TZID:Europe/Berlin
BEGIN:STANDARD
DTSTART:20001029T040000
RRULE:FREQ=YEARLY;BYDAY=-1SU;BYMONTH=10
TZNAME:CET
TZOFFSETFROM:+0200
TZOFFSETTO:+0100
END:STANDARD
BEGIN:DAYLIGHT
DTSTART:20000326T030000
RRULE:FREQ=YEARLY;BYDAY=-1SU;BYMONTH=3
TZNAME:CEST
TZOFFSETFROM:+0100
TZOFFSETTO:+0200
END:DAYLIGHT
END:VTIMEZONE
BEGIN:VEVENT
UID:pretix-leipzigprojekt-05-09-21-BG-0@tickets.leipzigprojekt.com
DTSTART;TZID=Europe/Berlin:20210905T110000
DTEND;TZID=Europe/Berlin:20210905T122000
DESCRIPTION:Tickets: https://tickets.leipzigprojekt.com/05-09-21-BG/\nVeran
 stalter: Leipzigprojekt
DTSTAMP:20260421T140820Z
LOCATION:Felsenkeller Betriebs GmbH\, Karl-Heine-Str 32\, 04229 Leipzig\, D
 eutschland
SUMMARY:Gottesdienst im Biergarten
END:VEVENT
END:VCALENDAR
