BEGIN:VCALENDAR
VERSION:2.0
PRODID:-//pretix//pretix.eu//
BEGIN:VTIMEZONE
TZID:Europe/Berlin
BEGIN:STANDARD
DTSTART:20001029T040000
RRULE:FREQ=YEARLY;BYDAY=-1SU;BYMONTH=10
TZNAME:CET
TZOFFSETFROM:+0200
TZOFFSETTO:+0100
END:STANDARD
BEGIN:DAYLIGHT
DTSTART:20000326T030000
RRULE:FREQ=YEARLY;BYDAY=-1SU;BYMONTH=3
TZNAME:CEST
TZOFFSETFROM:+0100
TZOFFSETTO:+0200
END:DAYLIGHT
END:VTIMEZONE
BEGIN:VEVENT
UID:pretix-leipzigprojekt-GD-03-10-21-0@tickets.leipzigprojekt.com
DTSTART;TZID=Europe/Berlin:20211003T110000
DTEND;TZID=Europe/Berlin:20211003T123000
DESCRIPTION:Tickets: https://tickets.leipzigprojekt.com/GD-03-10-21/\nVeran
 stalter: Leipzigprojekt
DTSTAMP:20260421T120629Z
LOCATION:Felsenkeller Betriebs GmbH\, Karl-Heine-Str 32\, 04229 Leipzig
SUMMARY:Gottesdienst im Felsenkeller
END:VEVENT
END:VCALENDAR
