BEGIN:VCALENDAR
VERSION:2.0
PRODID:-//pretix//pretix.eu//
BEGIN:VTIMEZONE
TZID:Europe/Berlin
BEGIN:STANDARD
DTSTART:20001029T040000
RRULE:FREQ=YEARLY;BYDAY=-1SU;BYMONTH=10
TZNAME:CET
TZOFFSETFROM:+0200
TZOFFSETTO:+0100
END:STANDARD
BEGIN:DAYLIGHT
DTSTART:20000326T030000
RRULE:FREQ=YEARLY;BYDAY=-1SU;BYMONTH=3
TZNAME:CEST
TZOFFSETFROM:+0100
TZOFFSETTO:+0200
END:DAYLIGHT
END:VTIMEZONE
BEGIN:VEVENT
UID:pretix-leipzigprojekt-GD-20-02-22-0@tickets.leipzigprojekt.com
DTSTART;TZID=Europe/Berlin:20220220T110000
DTEND;TZID=Europe/Berlin:20220220T120000
DESCRIPTION:Tickets: https://tickets.leipzigprojekt.com/GD-20-02-22/\nVeran
 stalter: Leipzigprojekt
DTSTAMP:20260420T222554Z
LOCATION:Karl-Heine-Str. 8\, 04229 Leipzig
SUMMARY:Gottesdienst im Adventhaus
END:VEVENT
END:VCALENDAR
